BEGIN:VCALENDAR
VERSION:2.0
PRODID:-//The Duke of Cornwall Hotel - Plymouth’s First Luxury Hotel Est. 1863 - ECPv6.15.3//NONSGML v1.0//EN
CALSCALE:GREGORIAN
METHOD:PUBLISH
X-ORIGINAL-URL:https://thedukeofcornwall.co.uk
X-WR-CALDESC:Events for The Duke of Cornwall Hotel - Plymouth’s First Luxury Hotel Est. 1863
REFRESH-INTERVAL;VALUE=DURATION:PT1H
X-Robots-Tag:noindex
X-PUBLISHED-TTL:PT1H
BEGIN:VTIMEZONE
TZID:Europe/London
BEGIN:DAYLIGHT
TZOFFSETFROM:+0000
TZOFFSETTO:+0100
TZNAME:BST
DTSTART:20240331T010000
END:DAYLIGHT
BEGIN:STANDARD
TZOFFSETFROM:+0100
TZOFFSETTO:+0000
TZNAME:GMT
DTSTART:20241027T010000
END:STANDARD
END:VTIMEZONE
BEGIN:VEVENT
DTSTART;VALUE=DATE:20240531
DTEND;VALUE=DATE:20240603
DTSTAMP:20260425T121010
CREATED:20240325T220343Z
LAST-MODIFIED:20240325T220343Z
UID:13214-1717113600-1717372799@thedukeofcornwall.co.uk
SUMMARY:Flavour Fest - 31st May - 2nd June
DESCRIPTION:
URL:https://thedukeofcornwall.co.uk/event/flavour-fest-31st-may-2nd-june/
END:VEVENT
END:VCALENDAR