BEGIN:VCALENDAR
VERSION:2.0
PRODID:-//The Duke of Cornwall Hotel - Plymouth’s First Luxury Hotel Est. 1863 - ECPv6.15.3//NONSGML v1.0//EN
CALSCALE:GREGORIAN
METHOD:PUBLISH
X-ORIGINAL-URL:https://thedukeofcornwall.co.uk
X-WR-CALDESC:Events for The Duke of Cornwall Hotel - Plymouth’s First Luxury Hotel Est. 1863
REFRESH-INTERVAL;VALUE=DURATION:PT1H
X-Robots-Tag:noindex
X-PUBLISHED-TTL:PT1H
BEGIN:VTIMEZONE
TZID:Europe/London
BEGIN:DAYLIGHT
TZOFFSETFROM:+0000
TZOFFSETTO:+0100
TZNAME:BST
DTSTART:20260329T010000
END:DAYLIGHT
BEGIN:STANDARD
TZOFFSETFROM:+0100
TZOFFSETTO:+0000
TZNAME:GMT
DTSTART:20261025T010000
END:STANDARD
END:VTIMEZONE
BEGIN:VEVENT
DTSTART;TZID=Europe/London:20260619T190000
DTEND;TZID=Europe/London:20260619T190000
DTSTAMP:20260422T124801
CREATED:20250428T002639Z
LAST-MODIFIED:20250902T002105Z
UID:13466-1781895600-1781895600@thedukeofcornwall.co.uk
SUMMARY:Murder Mystery Event - Midsummer Murder
DESCRIPTION:
URL:https://thedukeofcornwall.co.uk/event/murder-mystery-event-midsummer-murder/
LOCATION:The Duke of Cornwall Hotel\, Millbay Road\, Plymouth\, PL1 3LG\, United Kingdom
CATEGORIES:Events at the Duke
ATTACH;FMTTYPE=image/png:https://thedukeofcornwall.co.uk/wp-content/uploads/2025/04/Screenshot-2025-04-28-at-10.26.07 am.png
END:VEVENT
END:VCALENDAR